BEGIN:VCALENDAR

VERSION:2.0

PRODID:-//hacksw/handcal//NONSGML v1.0//EN

BEGIN:VEVENT

UID:b87189d52e1f37a383a6105ba7f23188

DTSTAMP:20260420T082144Z

DTSTART:20260509T000000

DTEND:20260509T000000

SUMMARY:L40242450 - 28 Cottesloe Parade, TAYLORS HILL VIC 3037

LOCATION:28 Cottesloe Parade, TAYLORS HILL VIC 3037

END:VEVENT

END:VCALENDAR